BEGIN:VCALENDAR
VERSION:2.0
PRODID:-//Carolian Astronomy Society - ECPv6.15.20//NONSGML v1.0//EN
CALSCALE:GREGORIAN
METHOD:PUBLISH
X-WR-CALNAME:Carolian Astronomy Society
X-ORIGINAL-URL:http://carolianastro.co.uk/wpastro
X-WR-CALDESC:Events for Carolian Astronomy Society
REFRESH-INTERVAL;VALUE=DURATION:PT1H
X-Robots-Tag:noindex
X-PUBLISHED-TTL:PT1H
BEGIN:VTIMEZONE
TZID:UTC
BEGIN:STANDARD
TZOFFSETFROM:+0000
TZOFFSETTO:+0000
TZNAME:UTC
DTSTART:20190101T000000
END:STANDARD
END:VTIMEZONE
BEGIN:VEVENT
DTSTART;TZID=UTC:20200909T190000
DTEND;TZID=UTC:20200909T213000
DTSTAMP:20260423T192931
CREATED:20190826T175858Z
LAST-MODIFIED:20200829T114249Z
UID:2589-1599678000-1599687000@carolianastro.co.uk
SUMMARY:Annual General Meeting
DESCRIPTION:This years’ Annual General Meeting postponed from July due to Coronavirus restrictions. \nNow taking place via Zoom
URL:http://carolianastro.co.uk/wpastro/event/agm-and-buffet/
LOCATION:Online Via Zoom\, United Kingdom
END:VEVENT
END:VCALENDAR