BEGIN:VCALENDAR
VERSION:2.0
PRODID:-//Carolian Astronomy Society - ECPv6.15.20//NONSGML v1.0//EN
CALSCALE:GREGORIAN
METHOD:PUBLISH
X-WR-CALNAME:Carolian Astronomy Society
X-ORIGINAL-URL:http://carolianastro.co.uk/wpastro
X-WR-CALDESC:Events for Carolian Astronomy Society
REFRESH-INTERVAL;VALUE=DURATION:PT1H
X-Robots-Tag:noindex
X-PUBLISHED-TTL:PT1H
BEGIN:VTIMEZONE
TZID:UTC
BEGIN:STANDARD
TZOFFSETFROM:+0000
TZOFFSETTO:+0000
TZNAME:UTC
DTSTART:20190101T000000
END:STANDARD
END:VTIMEZONE
BEGIN:VEVENT
DTSTART;TZID=UTC:20200610T193000
DTEND;TZID=UTC:20200610T213000
DTSTAMP:20260423T211321
CREATED:20190826T175255Z
LAST-MODIFIED:20200611T081317Z
UID:2582-1591817400-1591824600@carolianastro.co.uk
SUMMARY:POSTPONED: Members' Short Talks
DESCRIPTION:Janice Nixon:  The Gaia Space Observatory; Wilson Wall: A Critical Assessment of the Drake Equation; Dean Chester  HECC: NASA’s Supercomputer Project
URL:http://carolianastro.co.uk/wpastro/event/members-short-talks/
LOCATION:King Charles 1st School\, Lower School Site\, Borrington Road\, DY10 3ED\, Borrington Road\, KIDDERMINSTER\, DY10 3ED\, United Kingdom
END:VEVENT
END:VCALENDAR