BEGIN:VCALENDAR
VERSION:2.0
PRODID:-//Carolian Astronomy Society - ECPv6.15.20//NONSGML v1.0//EN
CALSCALE:GREGORIAN
METHOD:PUBLISH
X-WR-CALNAME:Carolian Astronomy Society
X-ORIGINAL-URL:http://carolianastro.co.uk/wpastro
X-WR-CALDESC:Events for Carolian Astronomy Society
REFRESH-INTERVAL;VALUE=DURATION:PT1H
X-Robots-Tag:noindex
X-PUBLISHED-TTL:PT1H
BEGIN:VTIMEZONE
TZID:UTC
BEGIN:STANDARD
TZOFFSETFROM:+0000
TZOFFSETTO:+0000
TZNAME:UTC
DTSTART:20190101T000000
END:STANDARD
END:VTIMEZONE
BEGIN:VEVENT
DTSTART;TZID=UTC:20200513T193000
DTEND;TZID=UTC:20200513T213000
DTSTAMP:20260424T020240
CREATED:20190826T175143Z
LAST-MODIFIED:20190826T175143Z
UID:2580-1589398200-1589405400@carolianastro.co.uk
SUMMARY:Mike Frost: Lady Pioneers of the British Astronomical Association
DESCRIPTION:
URL:http://carolianastro.co.uk/wpastro/event/mike-frost-lady-pioneers-of-the-british-astronomical-association/
LOCATION:King Charles 1st School\, Lower School Site\, Borrington Road\, DY10 3ED\, Borrington Road\, KIDDERMINSTER\, DY10 3ED\, United Kingdom
END:VEVENT
END:VCALENDAR